BEGIN:VCALENDAR
VERSION:2.0
PRODID:-//Schützenverein-Thaining - ECPv6.15.20//NONSGML v1.0//EN
CALSCALE:GREGORIAN
METHOD:PUBLISH
X-WR-CALNAME:Schützenverein-Thaining
X-ORIGINAL-URL:https://schuetzenverein-thaining.de
X-WR-CALDESC:Veranstaltungen für Schützenverein-Thaining
REFRESH-INTERVAL;VALUE=DURATION:PT1H
X-Robots-Tag:noindex
X-PUBLISHED-TTL:PT1H
BEGIN:VTIMEZONE
TZID:Europe/Berlin
BEGIN:DAYLIGHT
TZOFFSETFROM:+0100
TZOFFSETTO:+0200
TZNAME:CEST
DTSTART:20240331T010000
END:DAYLIGHT
BEGIN:STANDARD
TZOFFSETFROM:+0200
TZOFFSETTO:+0100
TZNAME:CET
DTSTART:20241027T010000
END:STANDARD
BEGIN:DAYLIGHT
TZOFFSETFROM:+0100
TZOFFSETTO:+0200
TZNAME:CEST
DTSTART:20250330T010000
END:DAYLIGHT
BEGIN:STANDARD
TZOFFSETFROM:+0200
TZOFFSETTO:+0100
TZNAME:CET
DTSTART:20251026T010000
END:STANDARD
BEGIN:DAYLIGHT
TZOFFSETFROM:+0100
TZOFFSETTO:+0200
TZNAME:CEST
DTSTART:20260329T010000
END:DAYLIGHT
BEGIN:STANDARD
TZOFFSETFROM:+0200
TZOFFSETTO:+0100
TZNAME:CET
DTSTART:20261025T010000
END:STANDARD
END:VTIMEZONE
BEGIN:VEVENT
DTSTART;TZID=Europe/Berlin:20251205T180000
DTEND;TZID=Europe/Berlin:20251205T233000
DTSTAMP:20260421T164147
CREATED:20251202T073221Z
LAST-MODIFIED:20251202T073221Z
UID:333-1764957600-1764977400@schuetzenverein-thaining.de
SUMMARY:Nikolaus-Schießen am Freitag\, 05.12.2025
DESCRIPTION:
URL:https://schuetzenverein-thaining.de/event/nikolaus-schiessen-am-freitag-05-12-2025/
LOCATION:Schützenheim Thaining\, Dorfplatz 11\, Thaining\, Bayern\, 86943\, Deutschland
ATTACH;FMTTYPE=image/png:https://schuetzenverein-thaining.de/wp-content/uploads/2025/12/Bildschirmfoto-2025-12-02-um-08.25.52.png
ORGANIZER;CN="Sch%C3%BCtzengesellschaft Gr%C3%BCne Au Thaining e. V.":MAILTO:Johann.Meiendres@schuetzenverein-thaining.de
END:VEVENT
END:VCALENDAR