BEGIN:VCALENDAR
VERSION:2.0
PRODID:-//Schützenverein-Thaining - ECPv6.15.20//NONSGML v1.0//EN
CALSCALE:GREGORIAN
METHOD:PUBLISH
X-WR-CALNAME:Schützenverein-Thaining
X-ORIGINAL-URL:https://schuetzenverein-thaining.de
X-WR-CALDESC:Veranstaltungen für Schützenverein-Thaining
REFRESH-INTERVAL;VALUE=DURATION:PT1H
X-Robots-Tag:noindex
X-PUBLISHED-TTL:PT1H
BEGIN:VTIMEZONE
TZID:Europe/Berlin
BEGIN:DAYLIGHT
TZOFFSETFROM:+0100
TZOFFSETTO:+0200
TZNAME:CEST
DTSTART:20220327T010000
END:DAYLIGHT
BEGIN:STANDARD
TZOFFSETFROM:+0200
TZOFFSETTO:+0100
TZNAME:CET
DTSTART:20221030T010000
END:STANDARD
BEGIN:DAYLIGHT
TZOFFSETFROM:+0100
TZOFFSETTO:+0200
TZNAME:CEST
DTSTART:20230326T010000
END:DAYLIGHT
BEGIN:STANDARD
TZOFFSETFROM:+0200
TZOFFSETTO:+0100
TZNAME:CET
DTSTART:20231029T010000
END:STANDARD
BEGIN:DAYLIGHT
TZOFFSETFROM:+0100
TZOFFSETTO:+0200
TZNAME:CEST
DTSTART:20240331T010000
END:DAYLIGHT
BEGIN:STANDARD
TZOFFSETFROM:+0200
TZOFFSETTO:+0100
TZNAME:CET
DTSTART:20241027T010000
END:STANDARD
BEGIN:DAYLIGHT
TZOFFSETFROM:+0100
TZOFFSETTO:+0200
TZNAME:CEST
DTSTART:20250330T010000
END:DAYLIGHT
BEGIN:STANDARD
TZOFFSETFROM:+0200
TZOFFSETTO:+0100
TZNAME:CET
DTSTART:20251026T010000
END:STANDARD
BEGIN:DAYLIGHT
TZOFFSETFROM:+0100
TZOFFSETTO:+0200
TZNAME:CEST
DTSTART:20260329T010000
END:DAYLIGHT
BEGIN:STANDARD
TZOFFSETFROM:+0200
TZOFFSETTO:+0100
TZNAME:CET
DTSTART:20261025T010000
END:STANDARD
BEGIN:DAYLIGHT
TZOFFSETFROM:+0100
TZOFFSETTO:+0200
TZNAME:CEST
DTSTART:20270328T010000
END:DAYLIGHT
BEGIN:STANDARD
TZOFFSETFROM:+0200
TZOFFSETTO:+0100
TZNAME:CET
DTSTART:20271031T010000
END:STANDARD
END:VTIMEZONE
BEGIN:VEVENT
DTSTART;TZID=Europe/Berlin:20260403T180000
DTEND;TZID=Europe/Berlin:20260403T233000
DTSTAMP:20260419T193714
CREATED:20260312T123303Z
LAST-MODIFIED:20260312T123303Z
UID:356-1775239200-1775259000@schuetzenverein-thaining.de
SUMMARY:Vereineschießen
DESCRIPTION:
URL:https://schuetzenverein-thaining.de/event/vereineschiessen-2/
LOCATION:Schützenheim Thaining\, Dorfplatz 11\, Thaining\, Bayern\, 86943\, Deutschland
ATTACH;FMTTYPE=image/jpeg:https://schuetzenverein-thaining.de/wp-content/uploads/2026/03/Screenshot-2026-03-12-132734.jpg
ORGANIZER;CN="Sch%C3%BCtzengesellschaft Gr%C3%BCne Au Thaining e. V.":MAILTO:Johann.Meiendres@schuetzenverein-thaining.de
END:VEVENT
BEGIN:VEVENT
DTSTART;TZID=Europe/Berlin:20260327T180000
DTEND;TZID=Europe/Berlin:20260327T233000
DTSTAMP:20260419T193714
CREATED:20260312T123205Z
LAST-MODIFIED:20260312T123205Z
UID:353-1774634400-1774654200@schuetzenverein-thaining.de
SUMMARY:Vereineschießen
DESCRIPTION:
URL:https://schuetzenverein-thaining.de/event/vereineschiessen/
LOCATION:Schützenheim Thaining\, Dorfplatz 11\, Thaining\, Bayern\, 86943\, Deutschland
ATTACH;FMTTYPE=image/jpeg:https://schuetzenverein-thaining.de/wp-content/uploads/2026/03/Screenshot-2026-03-12-132734.jpg
ORGANIZER;CN="Sch%C3%BCtzengesellschaft Gr%C3%BCne Au Thaining e. V.":MAILTO:Johann.Meiendres@schuetzenverein-thaining.de
END:VEVENT
BEGIN:VEVENT
DTSTART;TZID=Europe/Berlin:20260130T193000
DTEND;TZID=Europe/Berlin:20260130T220000
DTSTAMP:20260419T193714
CREATED:20251231T093359Z
LAST-MODIFIED:20251231T093400Z
UID:350-1769801400-1769810400@schuetzenverein-thaining.de
SUMMARY:Jahreshauptversammlung mit Königsproklamation und Neuwahlen
DESCRIPTION:
URL:https://schuetzenverein-thaining.de/event/jahreshauptversammlung-mit-koenigsproklamation-und-neuwahlen/
LOCATION:Schützenheim Thaining\, Dorfplatz 11\, Thaining\, Bayern\, 86943\, Deutschland
ATTACH;FMTTYPE=image/png:https://schuetzenverein-thaining.de/wp-content/uploads/2025/12/Bildschirmfoto-2025-12-31-um-10.24.22.png
ORGANIZER;CN="Sch%C3%BCtzengesellschaft Gr%C3%BCne Au Thaining e. V.":MAILTO:Johann.Meiendres@schuetzenverein-thaining.de
END:VEVENT
BEGIN:VEVENT
DTSTART;TZID=Europe/Berlin:20260109T180000
DTEND;TZID=Europe/Berlin:20260109T220000
DTSTAMP:20260419T193714
CREATED:20251231T093223Z
LAST-MODIFIED:20251231T093223Z
UID:347-1767981600-1767996000@schuetzenverein-thaining.de
SUMMARY:Königsschießen 2026
DESCRIPTION:
URL:https://schuetzenverein-thaining.de/event/koenigsschiessen-2026/
LOCATION:Schützenheim Thaining\, Dorfplatz 11\, Thaining\, Bayern\, 86943\, Deutschland
ATTACH;FMTTYPE=image/png:https://schuetzenverein-thaining.de/wp-content/uploads/2025/12/Bildschirmfoto-2025-12-31-um-10.24.22.png
ORGANIZER;CN="Sch%C3%BCtzengesellschaft Gr%C3%BCne Au Thaining e. V.":MAILTO:Johann.Meiendres@schuetzenverein-thaining.de
END:VEVENT
BEGIN:VEVENT
DTSTART;TZID=Europe/Berlin:20251205T180000
DTEND;TZID=Europe/Berlin:20251205T233000
DTSTAMP:20260419T193714
CREATED:20251202T073221Z
LAST-MODIFIED:20251202T073221Z
UID:333-1764957600-1764977400@schuetzenverein-thaining.de
SUMMARY:Nikolaus-Schießen am Freitag\, 05.12.2025
DESCRIPTION:
URL:https://schuetzenverein-thaining.de/event/nikolaus-schiessen-am-freitag-05-12-2025/
LOCATION:Schützenheim Thaining\, Dorfplatz 11\, Thaining\, Bayern\, 86943\, Deutschland
ATTACH;FMTTYPE=image/png:https://schuetzenverein-thaining.de/wp-content/uploads/2025/12/Bildschirmfoto-2025-12-02-um-08.25.52.png
ORGANIZER;CN="Sch%C3%BCtzengesellschaft Gr%C3%BCne Au Thaining e. V.":MAILTO:Johann.Meiendres@schuetzenverein-thaining.de
END:VEVENT
BEGIN:VEVENT
DTSTART;TZID=Europe/Berlin:20250418T180000
DTEND;TZID=Europe/Berlin:20250418T233000
DTSTAMP:20260419T193714
CREATED:20250331T072518Z
LAST-MODIFIED:20250331T072518Z
UID:330-1744999200-1745019000@schuetzenverein-thaining.de
SUMMARY:Vereineschießen in Verbindung mit dem Ostereierschießen
DESCRIPTION:
URL:https://schuetzenverein-thaining.de/event/vereineschiessen-in-verbindung-mit-dem-ostereierschiessen-2/
LOCATION:Schützenheim Thaining\, Dorfplatz 11\, Thaining\, Bayern\, 86943\, Deutschland
ATTACH;FMTTYPE=image/jpeg:https://schuetzenverein-thaining.de/wp-content/uploads/2025/03/WhatsApp-Image-2025-03-31-at-09.12.00.jpeg
ORGANIZER;CN="Sch%C3%BCtzengesellschaft Gr%C3%BCne Au Thaining e. V.":MAILTO:Johann.Meiendres@schuetzenverein-thaining.de
END:VEVENT
BEGIN:VEVENT
DTSTART;TZID=Europe/Berlin:20250411T180000
DTEND;TZID=Europe/Berlin:20250411T233000
DTSTAMP:20260419T193714
CREATED:20250331T072418Z
LAST-MODIFIED:20250331T072418Z
UID:327-1744394400-1744414200@schuetzenverein-thaining.de
SUMMARY:Vereineschießen in Verbindung mit dem Ostereierschießen
DESCRIPTION:
URL:https://schuetzenverein-thaining.de/event/vereineschiessen-in-verbindung-mit-dem-ostereierschiessen/
LOCATION:Schützenheim Thaining\, Dorfplatz 11\, Thaining\, Bayern\, 86943\, Deutschland
ATTACH;FMTTYPE=image/jpeg:https://schuetzenverein-thaining.de/wp-content/uploads/2025/03/WhatsApp-Image-2025-03-31-at-09.12.00.jpeg
ORGANIZER;CN="Sch%C3%BCtzengesellschaft Gr%C3%BCne Au Thaining e. V.":MAILTO:Johann.Meiendres@schuetzenverein-thaining.de
END:VEVENT
BEGIN:VEVENT
DTSTART;TZID=Europe/Berlin:20250131T193000
DTEND;TZID=Europe/Berlin:20250131T223000
DTSTAMP:20260419T193714
CREATED:20250112T142615Z
LAST-MODIFIED:20250112T142615Z
UID:323-1738351800-1738362600@schuetzenverein-thaining.de
SUMMARY:Mitgliederversammlung
DESCRIPTION:
URL:https://schuetzenverein-thaining.de/event/mitgliederversammlung/
LOCATION:Schützenheim Thaining\, Dorfplatz 11\, Thaining\, Bayern\, 86943\, Deutschland
ATTACH;FMTTYPE=image/jpeg:https://schuetzenverein-thaining.de/wp-content/uploads/2025/01/PXL_20250112_1422042543-scaled.jpg
ORGANIZER;CN="Sch%C3%BCtzengesellschaft Gr%C3%BCne Au Thaining e. V.":MAILTO:Johann.Meiendres@schuetzenverein-thaining.de
END:VEVENT
BEGIN:VEVENT
DTSTART;TZID=Europe/Berlin:20241206T180000
DTEND;TZID=Europe/Berlin:20241206T230000
DTSTAMP:20260419T193714
CREATED:20241104T060204Z
LAST-MODIFIED:20241104T060204Z
UID:315-1733508000-1733526000@schuetzenverein-thaining.de
SUMMARY:Nikolaus-Schießen
DESCRIPTION:Nikolaus-Schießen\n  \nam Freitag\, 06.12.2024 \nim Schützenheim\, Gasthaus Stork \nBeginn für die Schützenjugend bereits um 18 Uhr\, \nErwachsene ab 20 Uhr\, Preisverleihung im Anschluss.
URL:https://schuetzenverein-thaining.de/event/nikolaus-schiessen/
LOCATION:Schützenheim Thaining\, Dorfplatz 11\, Thaining\, Bayern\, 86943\, Deutschland
CATEGORIES:Nikolaus-Schießen
ATTACH;FMTTYPE=image/png:https://schuetzenverein-thaining.de/wp-content/uploads/2024/11/Bildschirmfoto-2024-11-04-um-06.53.41.png
ORGANIZER;CN="Sch%C3%BCtzengesellschaft Gr%C3%BCne Au Thaining e. V.":MAILTO:Johann.Meiendres@schuetzenverein-thaining.de
END:VEVENT
BEGIN:VEVENT
DTSTART;TZID=Europe/Berlin:20241110T170000
DTEND;TZID=Europe/Berlin:20241110T200000
DTSTAMP:20260419T193714
CREATED:20241104T060610Z
LAST-MODIFIED:20241104T060610Z
UID:319-1731258000-1731268800@schuetzenverein-thaining.de
SUMMARY:Pistolenlehrgang mit Sigurd Ehringer
DESCRIPTION:
URL:https://schuetzenverein-thaining.de/event/pistolenlehrgang-mit-sigurd-ehringer/
LOCATION:Schützenheim Thaining\, Dorfplatz 11\, Thaining\, Bayern\, 86943\, Deutschland
CATEGORIES:Lehrgang
ATTACH;FMTTYPE=image/png:https://schuetzenverein-thaining.de/wp-content/uploads/2024/11/Bildschirmfoto-2024-11-04-um-07.03.15.png
ORGANIZER;CN="Sch%C3%BCtzengesellschaft Gr%C3%BCne Au Thaining e. V.":MAILTO:Johann.Meiendres@schuetzenverein-thaining.de
END:VEVENT
BEGIN:VEVENT
DTSTART;TZID=Europe/Berlin:20240913T180000
DTEND;TZID=Europe/Berlin:20240913T220000
DTSTAMP:20260419T193714
CREATED:20240912T152958Z
LAST-MODIFIED:20240912T152958Z
UID:295-1726250400-1726264800@schuetzenverein-thaining.de
SUMMARY:Eltern-Kind-Duell
DESCRIPTION:
URL:https://schuetzenverein-thaining.de/event/eltern-kind-duell/
LOCATION:Schützenheim Thaining\, Dorfplatz 11\, Thaining\, Bayern\, 86943\, Deutschland
ORGANIZER;CN="Sch%C3%BCtzengesellschaft Gr%C3%BCne Au Thaining e. V.":MAILTO:Johann.Meiendres@schuetzenverein-thaining.de
END:VEVENT
BEGIN:VEVENT
DTSTART;TZID=Europe/Berlin:20240202T193000
DTEND;TZID=Europe/Berlin:20240202T220000
DTSTAMP:20260419T193714
CREATED:20240108T103359Z
LAST-MODIFIED:20240108T103359Z
UID:285-1706902200-1706911200@schuetzenverein-thaining.de
SUMMARY:Mitgliederversammlung Schützenverein Thaining
DESCRIPTION:
URL:https://schuetzenverein-thaining.de/event/mitgliederversammlung-schuetzenverein-thaining/
LOCATION:Schützenheim Thaining\, Dorfplatz 11\, Thaining\, Bayern\, 86943\, Deutschland
ORGANIZER;CN="Sch%C3%BCtzengesellschaft Gr%C3%BCne Au Thaining e. V.":MAILTO:Johann.Meiendres@schuetzenverein-thaining.de
END:VEVENT
BEGIN:VEVENT
DTSTART;TZID=Europe/Berlin:20240112T080000
DTEND;TZID=Europe/Berlin:20240112T170000
DTSTAMP:20260419T193714
CREATED:20240108T112210Z
LAST-MODIFIED:20240108T112210Z
UID:291-1705046400-1705078800@schuetzenverein-thaining.de
SUMMARY:Königsschießen 2024
DESCRIPTION:
URL:https://schuetzenverein-thaining.de/event/koenigsschiessen-2024/
LOCATION:Schützenheim Thaining\, Dorfplatz 11\, Thaining\, Bayern\, 86943\, Deutschland
ORGANIZER;CN="Sch%C3%BCtzengesellschaft Gr%C3%BCne Au Thaining e. V.":MAILTO:Johann.Meiendres@schuetzenverein-thaining.de
END:VEVENT
BEGIN:VEVENT
DTSTART;TZID=Europe/Berlin:20231208T180000
DTEND;TZID=Europe/Berlin:20231208T233000
DTSTAMP:20260419T193714
CREATED:20231207T145418Z
LAST-MODIFIED:20231207T145418Z
UID:281-1702058400-1702078200@schuetzenverein-thaining.de
SUMMARY:Nikolausschießen am Freitag den 08.12.2023
DESCRIPTION:
URL:https://schuetzenverein-thaining.de/event/nikolausschiessen-am-freitag-den-08-12-2023/
LOCATION:Schützenheim Thaining\, Dorfplatz 11\, Thaining\, Bayern\, 86943\, Deutschland
ORGANIZER;CN="Sch%C3%BCtzengesellschaft Gr%C3%BCne Au Thaining e. V.":MAILTO:Johann.Meiendres@schuetzenverein-thaining.de
END:VEVENT
BEGIN:VEVENT
DTSTART;TZID=Europe/Berlin:20230407T180000
DTEND;TZID=Europe/Berlin:20230407T220000
DTSTAMP:20260419T193714
CREATED:20230304T161214Z
LAST-MODIFIED:20230304T162236Z
UID:184-1680890400-1680904800@schuetzenverein-thaining.de
SUMMARY:5. Thaininger Vereinswettkampf
DESCRIPTION:Hiermit laden wir alle Interessierten herzlich ein zum Thaininger Vereineschießen „Top Five“ im Schützenheim\, Gasthaus Stork: \nam Freitag\, 31.03.2023 ab 18 Uhr\, \nund \nam Freitag\, 07.04.2023 von 18-22 Uhr\, zugleich Ostereierschießen \nim Anschluss daran findet ab 22 Uhr die Preisverteilung statt. \nUnser Modus: \n\nJeder Verein kann beliebig viele (LG- oder LP-) Schützinnen/Schützen ab 12 Jahren an den Start bringen\, die für einen Verein antreten.\nDie besten fünf Schützinnen/Schützen werden gewertet („Top Five“).\nAb 51 Jahren darf aufgelegt geschossen werden.\nBeim Ergebnis zählt sowohl das beste Blattl als auch die Ringzahl.\nEinlage: 10+1 Schuss (2 €)\, Nachkauf möglich.\nDer beste Verein wird Sieger des Wanderpokals\, außerdem winken einige Sachpreise!\n\nWir freuen uns auf viele motivierte Schützinnen und Schützen jeden Alters\, die ihr Glück versuchen!
URL:https://schuetzenverein-thaining.de/event/5-thaininger-vereinswettkampf/
LOCATION:Schützenheim Thaining\, Dorfplatz 11\, Thaining\, Bayern\, 86943\, Deutschland
ORGANIZER;CN="Sch%C3%BCtzengesellschaft Gr%C3%BCne Au Thaining e. V.":MAILTO:Johann.Meiendres@schuetzenverein-thaining.de
END:VEVENT
BEGIN:VEVENT
DTSTART;TZID=Europe/Berlin:20230331T180000
DTEND;TZID=Europe/Berlin:20230331T220000
DTSTAMP:20260419T193714
CREATED:20230304T161801Z
LAST-MODIFIED:20230304T162205Z
UID:187-1680285600-1680300000@schuetzenverein-thaining.de
SUMMARY:5. Thaininger Vereinswettkampf
DESCRIPTION:Hiermit laden wir alle Interessierten herzlich ein zum Thaininger Vereineschießen „Top Five“ im Schützenheim\, Gasthaus Stork: \nam Freitag\, 31.03.2023 ab 18 Uhr\, \nund \nam Freitag\, 07.04.2023 von 18-22 Uhr\, zugleich Ostereierschießen \nim Anschluss daran findet ab 22 Uhr die Preisverteilung statt. \nUnser Modus: \n\nJeder Verein kann beliebig viele (LG- oder LP-) Schützinnen/Schützen ab 12 Jahren an den Start bringen\, die für einen Verein antreten.\nDie besten fünf Schützinnen/Schützen werden gewertet („Top Five“).\nAb 51 Jahren darf aufgelegt geschossen werden.\nBeim Ergebnis zählt sowohl das beste Blattl als auch die Ringzahl.\nEinlage: 10+1 Schuss (2 €)\, Nachkauf möglich.\nDer beste Verein wird Sieger des Wanderpokals\, außerdem winken einige Sachpreise!\n\nWir freuen uns auf viele motivierte Schützinnen und Schützen jeden Alters\, die ihr Glück versuchen!
URL:https://schuetzenverein-thaining.de/event/5-thaininger-vereinswettkampf-2/
LOCATION:Schützenheim Thaining\, Dorfplatz 11\, Thaining\, Bayern\, 86943\, Deutschland
ORGANIZER;CN="Sch%C3%BCtzengesellschaft Gr%C3%BCne Au Thaining e. V.":MAILTO:Johann.Meiendres@schuetzenverein-thaining.de
END:VEVENT
END:VCALENDAR